BEGIN:VCALENDAR
VERSION:2.0
PRODID:icalendar-ruby
CALSCALE:GREGORIAN
BEGIN:VTIMEZONE
TZID:America/New_York
BEGIN:DAYLIGHT
DTSTART:20260308T030000
TZOFFSETFROM:-0500
TZOFFSETTO:-0400
RRULE:FREQ=YEARLY;BYDAY=2SU;BYMONTH=3
TZNAME:EDT
END:DAYLIGHT
BEGIN:STANDARD
DTSTART:20261101T010000
TZOFFSETFROM:-0400
TZOFFSETTO:-0500
RRULE:FREQ=YEARLY;BYDAY=1SU;BYMONTH=11
TZNAME:EST
END:STANDARD
END:VTIMEZONE
BEGIN:VEVENT
DTSTAMP:20260422T102651Z
UID:https://glenrock.helpfulvillage.com/events/1009
DTSTART;TZID=America/New_York:20260617T180000
DTEND;TZID=America/New_York:20260617T190000
CLASS:PRIVATE
CREATED:20260419T083859
DESCRIPTION:
LAST-MODIFIED:20260419T083859
LOCATION:Glen Rock Library\, Rock Road\, Glen Rock\,  
SUMMARY:Village event: Journaling Workshop for Adults (Glen Rock Library)
URL;VALUE=URI:https://glenrock.helpfulvillage.com/events/1009
END:VEVENT
END:VCALENDAR
