BEGIN:VCALENDAR
VERSION:2.0
PRODID:icalendar-ruby
CALSCALE:GREGORIAN
BEGIN:VTIMEZONE
TZID:America/New_York
BEGIN:DAYLIGHT
DTSTART:20260308T030000
TZOFFSETFROM:-0500
TZOFFSETTO:-0400
RRULE:FREQ=YEARLY;BYDAY=2SU;BYMONTH=3
TZNAME:EDT
END:DAYLIGHT
BEGIN:STANDARD
DTSTART:20261101T010000
TZOFFSETFROM:-0400
TZOFFSETTO:-0500
RRULE:FREQ=YEARLY;BYDAY=1SU;BYMONTH=11
TZNAME:EST
END:STANDARD
END:VTIMEZONE
BEGIN:VEVENT
DTSTAMP:20260425T121626Z
UID:https://glenrock.helpfulvillage.com/events/1019
DTSTART;TZID=America/New_York:20260428T190000
DTEND;TZID=America/New_York:20260428T200000
CLASS:PRIVATE
CREATED:20260423T125401
DESCRIPTION:
LAST-MODIFIED:20260423T125456
LOCATION:Ridgewood Library Auditorium\, 125  N. Maple Avenue\, Ridgewood\, 
  
SUMMARY:Village event: Nathan Straus: From Macy’s Magnate to Internationa
 l Humanitarian- Author Talk(Ridgewood Library)
URL;VALUE=URI:https://glenrock.helpfulvillage.com/events/1019
END:VEVENT
END:VCALENDAR
